BEGIN:VCALENDAR
VERSION:2.0
PRODID:-//wp-events-plugin.com//7.2.3.1//EN
TZID:America/Regina
X-WR-TIMEZONE:America/Regina
BEGIN:VEVENT
UID:78@sktechworks.ca
DTSTART;TZID=America/Regina;VALUE=DATE:20150207
DTEND;TZID=America/Regina;VALUE=DATE:20150208
DTSTAMP:20150205T153044Z
URL:https://sktechworks.ca/events/board-games-day/
SUMMARY:Board Games Day
DESCRIPTION:Techworks will be having a come-and-go board games day at the s
 pace. All members are welcome. Feel free to bring games and snacks. We wil
 l keep going as long as people are interested. People have said they will 
 be there as early as 10AM\, but feel free to arrive and depart at any time
  you choose. We hope to see you there!
LOCATION:Saskatoon TechWorks\, 509A Gray Ave\, Saskatoon\, Saskatchewan\, S
 7K 0W1\, Canada
GEO:52.140087;-106.595352
X-APPLE-STRUCTURED-LOCATION;VALUE=URI;X-ADDRESS=509A Gray Ave\, Saskatoon\,
  Saskatchewan\, S7K 0W1\, Canada;X-APPLE-RADIUS=100;X-TITLE=Saskatoon Tech
 Works:geo:52.140087,-106.595352
END:VEVENT
BEGIN:VTIMEZONE
TZID:America/Regina
X-LIC-LOCATION:America/Regina
BEGIN:STANDARD
DTSTART:20140207T110000
TZOFFSETFROM:-0600
TZOFFSETTO:-0600
TZNAME:CST
END:STANDARD
END:VTIMEZONE
END:VCALENDAR