BEGIN:VCALENDAR
VERSION:2.0
PRODID:-//wp-events-plugin.com//7.2.3.1//EN
TZID:America/Regina
X-WR-TIMEZONE:America/Regina
BEGIN:VEVENT
UID:212@sktechworks.ca
DTSTART;TZID=America/Regina:20180621T190000
DTEND;TZID=America/Regina:20180621T213000
DTSTAMP:20180528T203744Z
URL:https://sktechworks.ca/events/electronics-from-zero-1-of-2/
SUMMARY:Electronics From Zero 1 of 2
DESCRIPTION:Details and registration at: https://sktechworks.ca/product/wo
 rkshop-efz-20180621/\n\nNote: This is a two day workshop.  You should pla
 n to attend both June 21st and 28th.
CATEGORIES:Workshops
LOCATION:Saskatoon TechWorks\, 412B 44th Street East\, Saskatoon\, SK\, S7K
  0W1\, Canada
GEO:52.1613762;-106.6637164
X-APPLE-STRUCTURED-LOCATION;VALUE=URI;X-ADDRESS=412B 44th Street East\, Sas
 katoon\, SK\, S7K 0W1\, Canada;X-APPLE-RADIUS=100;X-TITLE=Saskatoon TechWo
 rks:geo:52.1613762,-106.6637164
END:VEVENT
BEGIN:VTIMEZONE
TZID:America/Regina
X-LIC-LOCATION:America/Regina
BEGIN:STANDARD
DTSTART:20170621T190000
TZOFFSETFROM:-0600
TZOFFSETTO:-0600
TZNAME:CST
END:STANDARD
END:VTIMEZONE
END:VCALENDAR