BEGIN:VCALENDAR
VERSION:2.0
PRODID:-//wp-events-plugin.com//7.2.3.1//EN
TZID:America/Regina
X-WR-TIMEZONE:America/Regina
BEGIN:VEVENT
UID:517@sktechworks.ca
DTSTART;TZID=America/Regina:20220625T100000
DTEND;TZID=America/Regina:20220625T180000
DTSTAMP:20220321T000255Z
URL:https://sktechworks.ca/events/maker-faire-saskatoon/
SUMMARY:Maker Faire Saskatoon
DESCRIPTION:\n\nMaker Faire is returning to Saskatoon June 25th\, 2022!  S
 ave the date.  If you have something to show off\, make sure to respond t
 o the call for makers before April 30th.\n\nSaskatoon Maker Faire
LOCATION:Prairieland Park\, 503 Ruth St West\, Saskatoon\, SK\, Canada
X-APPLE-STRUCTURED-LOCATION;VALUE=URI;X-ADDRESS=503 Ruth St West\, Saskatoo
 n\, SK\, Canada;X-APPLE-RADIUS=100;X-TITLE=Prairieland Park:geo:0,0
END:VEVENT
BEGIN:VTIMEZONE
TZID:America/Regina
X-LIC-LOCATION:America/Regina
BEGIN:STANDARD
DTSTART:20210625T100000
TZOFFSETFROM:-0600
TZOFFSETTO:-0600
TZNAME:CST
END:STANDARD
END:VTIMEZONE
END:VCALENDAR