BEGIN:VCALENDAR
VERSION:2.0
PRODID:-//wp-events-plugin.com//7.2.3.1//EN
TZID:America/Regina
X-WR-TIMEZONE:America/Regina
BEGIN:VEVENT
UID:314@sktechworks.ca
DTSTART;TZID=America/Regina:20190625T190000
DTEND;TZID=America/Regina:20190625T203000
DTSTAMP:20190618T043958Z
URL:https://sktechworks.ca/events/members-business-meeting/
SUMMARY:Members' Business Meeting
DESCRIPTION:We require the members' input on a matter to do with renewing o
 ur lease.  Please show up for this meeting! We need quorum so we can have
  a vote and move ahead.  It should be a short one.  We really only have 
 one thing to discuss.
CATEGORIES:Meetings
LOCATION:Saskatoon TechWorks\, 412B 44th Street East\, Saskatoon\, SK\, S7K
  0W1\, Canada
GEO:52.1613762;-106.6637164
X-APPLE-STRUCTURED-LOCATION;VALUE=URI;X-ADDRESS=412B 44th Street East\, Sas
 katoon\, SK\, S7K 0W1\, Canada;X-APPLE-RADIUS=100;X-TITLE=Saskatoon TechWo
 rks:geo:52.1613762,-106.6637164
END:VEVENT
BEGIN:VTIMEZONE
TZID:America/Regina
X-LIC-LOCATION:America/Regina
BEGIN:STANDARD
DTSTART:20180625T190000
TZOFFSETFROM:-0600
TZOFFSETTO:-0600
TZNAME:CST
END:STANDARD
END:VTIMEZONE
END:VCALENDAR