BEGIN:VCALENDAR
VERSION:2.0
PRODID:-//wp-events-plugin.com//7.2.3.1//EN
TZID:America/Regina
X-WR-TIMEZONE:America/Regina
BEGIN:VEVENT
UID:425@sktechworks.ca
DTSTART;TZID=America/Regina:20210209T190000
DTEND;TZID=America/Regina:20210209T203000
DTSTAMP:20210209T145907Z
URL:https://sktechworks.ca/events/monthly-members-business-meeting-50/
SUMMARY:Monthly Members' Business Meeting (and Zoom link)
DESCRIPTION:Our monthly business meetings are held the second Tuesday of ea
 ch month.  Members are encouraged to attend\, as this is where we make de
 cisions about our hackerspace!  If you are not a member and just want to 
 drop in and see our place\, you might want to wait until 8pm or so.  We w
 on't kick you out if you show up for our meeting\, but it might be boring.
 \n\nFor those who are unable to join us in person\, please join our Zoom m
 eeting:\n\nTopic: SKTW Monthly Members Meeting\nTime: Feb 9\, 2021 19:00 S
 askatchewan\n\nJoin Zoom Meeting\nhttps://us02web.zoom.us/j/88277584492?pw
 d=TUFSOWpmVjBrSFdmcEM3UG1CT3Ivdz09\n\nMeeting ID: 882 7758 4492\nPasscode:
  128140\n\n&nbsp\;
CATEGORIES:Meetings
LOCATION:Saskatoon TechWorks\, 412B 44th Street East\, Saskatoon\, SK\, S7K
  0W1\, Canada
GEO:52.1613762;-106.6637164
X-APPLE-STRUCTURED-LOCATION;VALUE=URI;X-ADDRESS=412B 44th Street East\, Sas
 katoon\, SK\, S7K 0W1\, Canada;X-APPLE-RADIUS=100;X-TITLE=Saskatoon TechWo
 rks:geo:52.1613762,-106.6637164
END:VEVENT
BEGIN:VTIMEZONE
TZID:America/Regina
X-LIC-LOCATION:America/Regina
BEGIN:STANDARD
DTSTART:20200210T190000
TZOFFSETFROM:-0600
TZOFFSETTO:-0600
TZNAME:CST
END:STANDARD
END:VTIMEZONE
END:VCALENDAR