BEGIN:VCALENDAR
VERSION:2.0
PRODID:-//wp-events-plugin.com//7.2.3.1//EN
TZID:America/Regina
X-WR-TIMEZONE:America/Regina
BEGIN:VEVENT
UID:495@sktechworks.ca
DTSTART;TZID=America/Regina:20220208T190000
DTEND;TZID=America/Regina:20220208T203000
DTSTAMP:20220204T152217Z
URL:https://sktechworks.ca/events/monthly-members-business-meeting-57/
SUMMARY:Monthly Members' Business Meeting
DESCRIPTION:Our monthly business meetings are held the second Tuesday of ea
 ch month.  Members are encouraged to attend\, as this is where we make de
 cisions about our hackerspace!  If you are not a member and just want to 
 drop in and see our place\, you might want to wait until 8pm or so.  Non-
 members are permitted to attend our meetings but\, due to COVID\, we are l
 imiting our in-person meeting to members only.  The Zoom link is availabl
 e to members and non-members who wish to attend virtually.\n\nTopic: SKTW 
 Monthly Members Meeting\nTime: Feb 8\, 2022 19:00 Saskatchewan\n\nJoin Zoo
 m Meeting\nhttps://us02web.zoom.us/j/81389188980?pwd=d1JNZG1Na3ZYbVFTaW0wc
 UNEbnU3UT09\n\nMeeting ID: 813 8918 8980\nPasscode: 824310\n\n&nbsp\;
CATEGORIES:Meetings
LOCATION:Saskatoon TechWorks\, 412B 44th Street East\, Saskatoon\, SK\, S7K
  0W1\, Canada
GEO:52.1613762;-106.6637164
X-APPLE-STRUCTURED-LOCATION;VALUE=URI;X-ADDRESS=412B 44th Street East\, Sas
 katoon\, SK\, S7K 0W1\, Canada;X-APPLE-RADIUS=100;X-TITLE=Saskatoon TechWo
 rks:geo:52.1613762,-106.6637164
END:VEVENT
BEGIN:VTIMEZONE
TZID:America/Regina
X-LIC-LOCATION:America/Regina
BEGIN:STANDARD
DTSTART:20210208T190000
TZOFFSETFROM:-0600
TZOFFSETTO:-0600
TZNAME:CST
END:STANDARD
END:VTIMEZONE
END:VCALENDAR