BEGIN:VCALENDAR
VERSION:2.0
PRODID:-//wp-events-plugin.com//7.2.3.1//EN
TZID:America/Regina
X-WR-TIMEZONE:America/Regina
BEGIN:VEVENT
UID:416@sktechworks.ca
DTSTART;TZID=America/Regina:20200215T100000
DTEND;TZID=America/Regina:20200215T170000
DTSTAMP:20200210T001259Z
URL:https://sktechworks.ca/events/open-house-9th-anniversary-grand-opening
 /
SUMMARY:Open House! 9th Anniversary! Grand Opening!
DESCRIPTION:\nJoin us on February 15th\, 2020 from 10AM to 5PM to help us c
 elebrate 9 years of making. Meet some of our members.  Watch demonstratio
 ns of our equipment.  Check out our new expansion with new tools includin
 g a Silhouette vinyl cutter\, sewing machines\, and a computerized embroid
 ery machine!
CATEGORIES:Open House
LOCATION:Saskatoon TechWorks\, 412B 44th Street East\, Saskatoon\, SK\, S7K
  0W1\, Canada
GEO:52.1613762;-106.6637164
X-APPLE-STRUCTURED-LOCATION;VALUE=URI;X-ADDRESS=412B 44th Street East\, Sas
 katoon\, SK\, S7K 0W1\, Canada;X-APPLE-RADIUS=100;X-TITLE=Saskatoon TechWo
 rks:geo:52.1613762,-106.6637164
END:VEVENT
BEGIN:VTIMEZONE
TZID:America/Regina
X-LIC-LOCATION:America/Regina
BEGIN:STANDARD
DTSTART:20190215T100000
TZOFFSETFROM:-0600
TZOFFSETTO:-0600
TZNAME:CST
END:STANDARD
END:VTIMEZONE
END:VCALENDAR