BEGIN:VCALENDAR
VERSION:2.0
PRODID:-//wp-events-plugin.com//7.2.3.1//EN
TZID:America/Regina
X-WR-TIMEZONE:America/Regina
BEGIN:VEVENT
UID:77@sktechworks.ca
DTSTART;TZID=America/Regina:20141213T120000
DTEND;TZID=America/Regina:20141213T150000
DTSTAMP:20141203T172324Z
URL:https://sktechworks.ca/events/robot-kit-arduino-programming-1-workshop
 /
SUMMARY:Robot Kit - Arduino Programming 1 workshop
DESCRIPTION:This is the first of a few workshops where we will learn how to
  program the Arduino in the Robot Kit. By the end of the workshop\, you wi
 ll have written your own program to make the robot act as a line follower 
 or as a wall follower. No prior Arduino experience is necessary. Please br
 ing your robot\, and if possible\, a laptop so that you can write your own
  code.\n\nIf you plan on attending this event\, please let me know at jame
 s.cooper@sktechworks.ca.
CATEGORIES:Workshops
LOCATION:Saskatoon Techworks\, 509A Gray Ave\, Saskatoon\, Saskatchewan\, C
 anada
GEO:52.139946;-106.595474
X-APPLE-STRUCTURED-LOCATION;VALUE=URI;X-ADDRESS=509A Gray Ave\, Saskatoon\,
  Saskatchewan\, Canada;X-APPLE-RADIUS=100;X-TITLE=Saskatoon Techworks:geo:
 52.139946,-106.595474
END:VEVENT
BEGIN:VTIMEZONE
TZID:America/Regina
X-LIC-LOCATION:America/Regina
BEGIN:STANDARD
DTSTART:20131213T120000
TZOFFSETFROM:-0600
TZOFFSETTO:-0600
TZNAME:CST
END:STANDARD
END:VTIMEZONE
END:VCALENDAR