BEGIN:VCALENDAR
VERSION:2.0
PRODID:-//wp-events-plugin.com//7.2.3.1//EN
TZID:America/Regina
X-WR-TIMEZONE:America/Regina
BEGIN:VEVENT
UID:161@sktechworks.ca
DTSTART;TZID=America/Regina:20170812T110000
DTEND;TZID=America/Regina:20170812T170000
DTSTAMP:20170808T013159Z
URL:https://sktechworks.ca/events/summer-social/
SUMMARY:Summer Social
DESCRIPTION:Saskatoon TechWorks invites you to attend our Summer Social. We
  will have games\, BBQ\, and whatever else the volunteers come up with.\n\
 n 	Open Cola\n 	Burgers and Hot Dogs\n 	Board / Card games\n\nWatch Scott 
 and Al laser the grill marks onto a sous-vide steak.  We've been threaten
 ing to do this for years\, so Saturday is the day.
CATEGORIES:Social
LOCATION:Saskatoon TechWorks\, 412B 44th Street East\, Saskatoon\, SK\, S7K
  0W1\, Canada
GEO:52.1613762;-106.6637164
X-APPLE-STRUCTURED-LOCATION;VALUE=URI;X-ADDRESS=412B 44th Street East\, Sas
 katoon\, SK\, S7K 0W1\, Canada;X-APPLE-RADIUS=100;X-TITLE=Saskatoon TechWo
 rks:geo:52.1613762,-106.6637164
END:VEVENT
BEGIN:VTIMEZONE
TZID:America/Regina
X-LIC-LOCATION:America/Regina
BEGIN:STANDARD
DTSTART:20160812T110000
TZOFFSETFROM:-0600
TZOFFSETTO:-0600
TZNAME:CST
END:STANDARD
END:VTIMEZONE
END:VCALENDAR